BEGIN:VCALENDAR
VERSION:2.0
PRODID:-//Lasers4EU - ECPv6.15.20//NONSGML v1.0//EN
CALSCALE:GREGORIAN
METHOD:PUBLISH
X-WR-CALNAME:Lasers4EU
X-ORIGINAL-URL:https://lasers4.eu
X-WR-CALDESC:Events for Lasers4EU
REFRESH-INTERVAL;VALUE=DURATION:PT1H
X-Robots-Tag:noindex
X-PUBLISHED-TTL:PT1H
BEGIN:VTIMEZONE
TZID:Europe/Berlin
BEGIN:DAYLIGHT
TZOFFSETFROM:+0100
TZOFFSETTO:+0200
TZNAME:CEST
DTSTART:20240331T010000
END:DAYLIGHT
BEGIN:STANDARD
TZOFFSETFROM:+0200
TZOFFSETTO:+0100
TZNAME:CET
DTSTART:20241027T010000
END:STANDARD
BEGIN:DAYLIGHT
TZOFFSETFROM:+0100
TZOFFSETTO:+0200
TZNAME:CEST
DTSTART:20250330T010000
END:DAYLIGHT
BEGIN:STANDARD
TZOFFSETFROM:+0200
TZOFFSETTO:+0100
TZNAME:CET
DTSTART:20251026T010000
END:STANDARD
BEGIN:DAYLIGHT
TZOFFSETFROM:+0100
TZOFFSETTO:+0200
TZNAME:CEST
DTSTART:20260329T010000
END:DAYLIGHT
BEGIN:STANDARD
TZOFFSETFROM:+0200
TZOFFSETTO:+0100
TZNAME:CET
DTSTART:20261025T010000
END:STANDARD
END:VTIMEZONE
BEGIN:VEVENT
DTSTART;TZID=Europe/Berlin:20250326T170000
DTEND;TZID=Europe/Berlin:20250326T180000
DTSTAMP:20260420T091523
CREATED:20250313T042553Z
LAST-MODIFIED:20250710T105035Z
UID:4433-1743008400-1743012000@lasers4.eu
SUMMARY:Lasers4EU Webinar: Technology transfer and patenting: from fundamental research to a business model. The example of LaserLeap Technologies\, 26 March 2025
DESCRIPTION:Speaker: Carlos Serpa (University of Coimbra & LaserLeap) \n\n\n\n\nThis webinar will explore the journey from fundamental research to a viable business model within a technology-based university spin-off. Using the case of LaserLeap Technologies  – a medical and aesthetic device company founded in 2011 by a professor\, a researcher and a doctoral student – we will examine key aspects of technology transfer\, development\, financing and intellectual property. Rather than simply showcasing successes we will highlight the challenges faced\, including technical\, economic and regulatory barriers and how the company adapted its business model over time.Ultimately the webinar will emphasize the dynamic process of bridging the gap between academic innovation and the business world. \n\n\n			\n				\n				\n				\n				\n				\n			\n			\n				\n				\n				\n				\n			\n				\n				\n				\n				\n				\n				\n				Watch the webinar
URL:https://lasers4.eu/event/lasers4eu-webinar-technology-transfer-and-patenting-from-fundamental-research-to-a-business-model-the-example-of-laserleap-technologies/
CATEGORIES:Webinars
ATTACH;FMTTYPE=image/png:https://lasers4.eu/wp-content/uploads/20250326_l4eu_laserleap_linkedin.png
END:VEVENT
END:VCALENDAR