BEGIN:VCALENDAR
VERSION:2.0
PRODID:-//Lasers4EU - ECPv6.15.20//NONSGML v1.0//EN
CALSCALE:GREGORIAN
METHOD:PUBLISH
X-WR-CALNAME:Lasers4EU
X-ORIGINAL-URL:https://lasers4.eu
X-WR-CALDESC:Events for Lasers4EU
REFRESH-INTERVAL;VALUE=DURATION:PT1H
X-Robots-Tag:noindex
X-PUBLISHED-TTL:PT1H
BEGIN:VTIMEZONE
TZID:Europe/Berlin
BEGIN:DAYLIGHT
TZOFFSETFROM:+0100
TZOFFSETTO:+0200
TZNAME:CEST
DTSTART:20250330T010000
END:DAYLIGHT
BEGIN:STANDARD
TZOFFSETFROM:+0200
TZOFFSETTO:+0100
TZNAME:CET
DTSTART:20251026T010000
END:STANDARD
BEGIN:DAYLIGHT
TZOFFSETFROM:+0100
TZOFFSETTO:+0200
TZNAME:CEST
DTSTART:20260329T010000
END:DAYLIGHT
BEGIN:STANDARD
TZOFFSETFROM:+0200
TZOFFSETTO:+0100
TZNAME:CET
DTSTART:20261025T010000
END:STANDARD
BEGIN:DAYLIGHT
TZOFFSETFROM:+0100
TZOFFSETTO:+0200
TZNAME:CEST
DTSTART:20270328T010000
END:DAYLIGHT
BEGIN:STANDARD
TZOFFSETFROM:+0200
TZOFFSETTO:+0100
TZNAME:CET
DTSTART:20271031T010000
END:STANDARD
END:VTIMEZONE
BEGIN:VEVENT
DTSTART;TZID=Europe/Berlin:20260520T160000
DTEND;TZID=Europe/Berlin:20260520T170000
DTSTAMP:20260420T144312
CREATED:20260420T084756Z
LAST-MODIFIED:20260420T084803Z
UID:7199-1779292800-1779296400@lasers4.eu
SUMMARY:Laserlab-Europe Talk: Elucidating the Photon Migration Effects in Incubated Chicken Eggs using Time-Domain Diffuse Optics\, 20 May 2026
DESCRIPTION:Title: Elucidating the Photon Migration Effects in Incubated Chicken Eggs using Time-Domain Diffuse Optics Speaker: Lennard van den Tweel (Wageningen University and Research) Date: Wednesday\, 20 May 2026\, 16:00 Central European Summer Time (CEST) \nThe early and non-invasive assessment of chicken embryonic sex and viability is of great interest. This interest is driven by the ethical dilemma surrounding the culling of non-productive day-old male chicks in layer-hen production and by the need to improve hatchery efficiency. Optical techniques are widely investigated for these applications\, but are challenged by the complex optical properties and heterogeneous structure of avian eggs. Here\, we show that chicken eggs display unusual photon trapping behavior due to the eggshell behaving like an integrating sphere\, considerably extending photon time-of-flight. Time-domain diffuse optical spectroscopy (TD-DOS) on egg phantoms\, supported by Monte Carlo simulations and post-dispersive filtering experiments\, rule out fluorescence as the source for the long photon time-of-flight. These results point to diffuse reflections at the inner surface of the eggshell as the source of the long photon time-of-flight. Despite these boundary effects\, the retrieval of internal bulk optical properties remains feasible via inversion of the diffusion approximation after selection of appropriate boundary conditions\, as was demonstrated in incubated eggs. Finally\, phantom experiments illustrate how the integrating sphere affects the temporal response of time-resolved Raman and fluorescence measurements\, highlighting critical challenges in non-invasive optical characterization of avian embryos. \n			\n			\n				\n				\n				\n				\n			\n				\n				\n				\n				\n				\n				\n				Registration
URL:https://lasers4.eu/event/lle-talk-elucidating-the-photon-migration-effects-in-incubated-chicken-eggs-using-time-domain-diffuse-optics-20-may-2026/
CATEGORIES:Webinars
END:VEVENT
END:VCALENDAR