BEGIN:VCALENDAR
VERSION:2.0
PRODID:-//Lasers4EU - ECPv6.15.20//NONSGML v1.0//EN
CALSCALE:GREGORIAN
METHOD:PUBLISH
X-ORIGINAL-URL:https://lasers4.eu
X-WR-CALDESC:Events for Lasers4EU
REFRESH-INTERVAL;VALUE=DURATION:PT1H
X-Robots-Tag:noindex
X-PUBLISHED-TTL:PT1H
BEGIN:VTIMEZONE
TZID:Europe/Berlin
BEGIN:DAYLIGHT
TZOFFSETFROM:+0100
TZOFFSETTO:+0200
TZNAME:CEST
DTSTART:20230326T010000
END:DAYLIGHT
BEGIN:STANDARD
TZOFFSETFROM:+0200
TZOFFSETTO:+0100
TZNAME:CET
DTSTART:20231029T010000
END:STANDARD
BEGIN:DAYLIGHT
TZOFFSETFROM:+0100
TZOFFSETTO:+0200
TZNAME:CEST
DTSTART:20240331T010000
END:DAYLIGHT
BEGIN:STANDARD
TZOFFSETFROM:+0200
TZOFFSETTO:+0100
TZNAME:CET
DTSTART:20241027T010000
END:STANDARD
BEGIN:DAYLIGHT
TZOFFSETFROM:+0100
TZOFFSETTO:+0200
TZNAME:CEST
DTSTART:20250330T010000
END:DAYLIGHT
BEGIN:STANDARD
TZOFFSETFROM:+0200
TZOFFSETTO:+0100
TZNAME:CET
DTSTART:20251026T010000
END:STANDARD
BEGIN:DAYLIGHT
TZOFFSETFROM:+0100
TZOFFSETTO:+0200
TZNAME:CEST
DTSTART:20260329T010000
END:DAYLIGHT
BEGIN:STANDARD
TZOFFSETFROM:+0200
TZOFFSETTO:+0100
TZNAME:CET
DTSTART:20261025T010000
END:STANDARD
END:VTIMEZONE
BEGIN:VEVENT
DTSTART;VALUE=DATE:20250619
DTEND;VALUE=DATE:20250622
DTSTAMP:20260420T172748
CREATED:20250327T121546Z
LAST-MODIFIED:20250624T081114Z
UID:4492-1750298400-1750471199@lasers4.eu
SUMMARY:Laser Spectroscopy and Photonic Technologies for Circular Economy: Advancing Sustainable Innovations in Material Research and Diagnostics\, 19-20 June 2025
DESCRIPTION:The workshop “Laser Spectroscopy and Photonic Technologies for Circular Economy: Advancing Sustainable Innovations in Material Research and Diagnostics”\, is a dynamic event dedicated to exploring the transformative role of photonic technologies in fostering sustainability and innovation. \nThis workshop will primarily focus on laser spectroscopy\, imaging\, and sensing technologies\, exploring their critical role in material research\, diagnostics\, and sustainable innovation. Participants will gain insights into how these advanced photonic techniques enable precise material characterization\, real-time monitoring\, and efficient resource management—key drivers for circular economy solutions. Through expert talks\, hands-on sessions\, and interactive discussions\, the workshop will highlight the versatility and impact of these technologies across research and industry. \nThe program will also feature a poster session\, providing a platform for researchers and students to present their work\, exchange ideas\, and foster new collaborations. \nTwo hands-on sessions will offer participants practical experience in: \n\nHyperspectral Imaging – exploring its powerful capabilities in material analysis and diagnostics.\nLaser Spectroscopy – delving into its versatile applications in environmental monitoring\, quality control\, and material characterization.\n\n			\n				Apply until 31 May 2025\n			\n			\n				\n				\n				\n				\n			\n				\n				\n				\n				\n				\n				\n				\n				\n				\n				\n				\nWho should attend\n\n\n\nThis workshop is designed for a diverse audience of researchers\, professionals\, and students who are interested in the intersection of photonic technologies and sustainable innovation. It will be particularly valuable for: \n\nResearchers and Academics working in material science\, photonics\, environmental science\, chemistry\, and related fields who want to explore advanced diagnostic tools and sustainable applications.\nIndustry Professionals from sectors such as recycling\, manufacturing\, environmental monitoring\, and quality control seeking innovative solutions for material analysis and circular economy practices.\nGraduate and PhD Students aiming to expand their knowledge and hands-on experience in hyperspectral imaging and laser spectroscopy.\n\nWhether you are driven by scientific curiosity\, industrial innovation\, or sustainability goals\, this workshop offers valuable insights\, networking opportunities\, and practical skills tailored to your interests. \n\n\n			\n			\n				\n				\n				\n				\n			\n				\n				\n				\n				\n				\n				\n				\n				\n				\n				\n				\n\nHands-on sessions\n\n\nHyperspectral Imaging\nUnlike traditional RGB imaging\, which captures only three spectral bands\, hyperspectral imaging (HSI) collects the entire spectrum from every point in the field of view\, producing the “spectral cube”: a stack of images taken at a large number of wavelengths. HSI synergistically combines the spatial correlations typical of imaging with the chemometric information provided by spectra\, thus enabling the identification of materials in an inhomogeneous sample. This technology has been widely used since the 1970s in several fields such as remote sensing\, medical imaging\, astronomy\, agriculture\, and conservation science\, and can now become a key technology for sorting materials in the circular economy. \nLaser Spectroscopy\nThis hands-on experimental demonstration will provide participants with a practical understanding of how to use laser spectroscopy techniques for the analysis and characterization of surfaces and materials. The following techniques will be demonstrated: \n\nLIBS: Laser Induced Breakdown Spectroscopy enables the determination of the elemental composition of materials on the basis of the characteristic atomic emission from a micro-plasma produced by focusing a high-power laser on\, a solid surface. It is widely used in various analytical applications for qualitative\, semi-quantitative\, and quantitative material analysis. LIBS is a rapid\, micro-destructive technique that can be performed both at close range and remotely (from distances of up to hundreds of meters). It can be used for bulk analysis\, depth profiling (elemental distribution with depth)\, and 2D and 3D chemical mapping.\nRaman: Raman spectroscopy is a well-established analytical technique that probes vibrational and other low-frequency modes in molecules and materials. As a result\, it provides an accurate look into chemical bonding\, thereby enabling identification of various types of materials\, both inorganic and organic. Raman spectroscopy features high sensitivity and specificity\, it is rapid\, non-destructive\, and can be performed in situ. When performed using a Raman microscope\, it offers superb spatial resolution and minimal analysis time.\n\nFollowing a brief introduction to the fundamental principles and instrumentation of both techniques\, participants will have the opportunity to use a Raman microscope and a micro-LIBS instrument (developed at IESL-FORTH) to analyse various materials. Participants are encouraged to contact us in advance if they wish to bring their own samples for potential analysis during the demonstration. \n			\n				\n				\n				\n				\n				\n\nThe workshop is organised within the frame of project ReMade@ARI (REcyclable MAterials DEvelopement at Analytical Research Infrastructures) co-funded by the European Union as part of Horizon Europe (GA No 10105841). \nThe event is endorsed by Laserlab-Europe through EU’s Horizon Europe co-funded project Lasers4EU (GA No 101131771).
URL:https://lasers4.eu/event/remade-laser-spectroscopy-and-photonic-technologies-for-circular-economy-2025/
LOCATION:Heraklion\, Heraklion\, Crete\, Greece
CATEGORIES:Project,Trainings
END:VEVENT
BEGIN:VEVENT
DTSTART;VALUE=DATE:20250601
DTEND;VALUE=DATE:20250606
DTSTAMP:20260420T172748
CREATED:20250326T104150Z
LAST-MODIFIED:20250624T081118Z
UID:4913-1748736000-1749167999@lasers4.eu
SUMMARY:Lasers4EU Training Event: Women in Photonics\, 1-5 June 2025
DESCRIPTION:The international workshop “Women in Photonics “ will be held from 1 to 5 June 2025 in Jena\, Germany. This event is organised by the Leibniz Institute of Photonic Technology\, a member of the Laserlab-Europe AISBL. \nThis year’s edition is organised with the support of Lasers4EU and 360Carla\, a project with which we closely collaborate.  \n			\n			\n				\n				\n				\n				\n				\n				\n				\n				\n				\n				\n			\n			\n				\n				\n				\n				\n			\n				\n				\n				\n				\n				\n				\n				\n				\n				\n				\n				\n\n\n\nWorkshop focus: \n\n Optical health technologies – diagnosis\, monitoring\, therapy\n Biomedical microscopy\, bio-analytical methods\, medical chip systems\n Biophotonics such as vibrational spectroscopy\, fluorescence\, OCT\, PAT\, etc.\n Laser based technology\n Photonic data science (AI\, deep learning\, machine learning)\n Optical engineering\n Fiber optics/fiber technology\n\nTargeted audience: \nThe workshop addresses female postdocs and PhD students working in these research areas\, who want to present their own work and build up new networks. Participants will have the opportunity to exchange with experienced scientists from academia and industry and jointly develop strategies for a successful professional career. \nRegistration Details: \nDeadline: April 4\, 2025 – specific deadline for members of Laserlab-Europe AISBL\, Lasers4EU and 360Carla.  \nEligible participants: Female scientists affiliated with Laserlab-Europe AISBL members and partners of the Horizon Europe Projects 360Carla and Lasers4EU. \n\n\n\n\n			\n			\n				\n				\n				\n				\n			\n				\n				\n				\n				\n				\n				\n				Register here\n			\n			\n				\n				\n				\n				\n				\n				More information
URL:https://lasers4.eu/event/lasers4eu-training-event-women-in-photonics-1-5-june-2025/
CATEGORIES:Project,Trainings
END:VEVENT
BEGIN:VEVENT
DTSTART;TZID=Europe/Berlin:20250512T150000
DTEND;TZID=Europe/Berlin:20250512T183000
DTSTAMP:20260420T172748
CREATED:20250310T131752Z
LAST-MODIFIED:20250513T105929Z
UID:4394-1747062000-1747074600@lasers4.eu
SUMMARY:Lasers4EU Workshop on standardised performance assessment\, 12 May 2025\, Didcot\, UK
DESCRIPTION:The Lasers4EU Workshop on Standardised Performance Assessment is part of the official program for the Laserlab-Europe AISBL Annual Meeting 2025. \n\n			\n				\n				\n				\n				\n				Preliminary agenda\n12 May 2025 \n14:10 – 14:20: Introduction: key aim\, formal requirements\, timeline\, agenda of the day14:20 – 16:00: Exemplary cases on performance assessments16:00 – 16:30: Coffee break16:30 – 17:00: Round Table– Role of Research infrastructures as reference centres in EU projects for validation– Methodology: Guidelines/Protocols and Implementations for Standardised Performance                     Assessment– Data management– Open Data– Best practices during User Access17:00 – 17:20: Clustering to compile Shared Guidelines– Collection of information and feedback from all participants– First attempt to identify Clusters for drafting guidelines17:20 – 17:30: Next actions– Definition of the Standardisation Survey (Milestone)– Next meeting
URL:https://lasers4.eu/event/lasers4eu-workshop-on-standardised-performance-assessment-12-may-2025-didcot-uk/
LOCATION:Rutherford Appleton Laboratory\, Harwell Campus\,\, Didcot\, OX11 0QX\, United Kingdom
CATEGORIES:Project
END:VEVENT
BEGIN:VEVENT
DTSTART;TZID=Europe/Berlin:20250415T143000
DTEND;TZID=Europe/Berlin:20250415T160000
DTSTAMP:20260420T172748
CREATED:20250407T105815Z
LAST-MODIFIED:20250407T110342Z
UID:4592-1744727400-1744732800@lasers4.eu
SUMMARY:Lasers4EU Access Board meeting\, 15 April 2025
DESCRIPTION:The Access Board of the Lasers4EU project will meet on 15 April 2025\, 14:30-16:00 CET. \nThe link to connect will be shared by the Laserlab-Europe office. \n  \nThis is a project internal event.
URL:https://lasers4.eu/event/ab-meeting-2025-04/
CATEGORIES:Project
END:VEVENT
BEGIN:VEVENT
DTSTART;TZID=Europe/Berlin:20250305T100000
DTEND;TZID=Europe/Berlin:20250305T120000
DTSTAMP:20260420T172748
CREATED:20250407T105455Z
LAST-MODIFIED:20250407T110331Z
UID:4583-1741168800-1741176000@lasers4.eu
SUMMARY:Lasers4EU Activity Board meeting\, 5 March 2025
DESCRIPTION:The Activity Board of the Lasers4EU project will meet on 5 March 2025\, 10:00-12:00 CET. \nThe link to connect will be shared by the Laserlab-Europe office. \n  \nThis is a project internal event.
URL:https://lasers4.eu/event/acb-meeting-2025-03/
CATEGORIES:Project
END:VEVENT
BEGIN:VEVENT
DTSTART;TZID=Europe/Berlin:20241113T093000
DTEND;TZID=Europe/Berlin:20241113T130000
DTSTAMP:20260420T172748
CREATED:20241031T123548Z
LAST-MODIFIED:20241127T075904Z
UID:2852-1731490200-1731502800@lasers4.eu
SUMMARY:Workshop on electronic laboratory notebooks
DESCRIPTION:Early and open sharing of research data is one of the key Open Science practices that still needs to be improved in our labs. Among the various enabling tools\, electronic laboratory notebooks (ELNs) – designed to replace commonly used paper notebooks – offer notable benefits to users\, from supporting collaboration amongst researchers\, simplifying secured copying of data or time stamping to directly incorporating of instrument parameters. However\, there are a multitude of ELN products on the market [Nature Protocols 17\, 179 (2022)] and identifying the most appropriate and user-friendly one may be complex and time-consuming.  \nThis Laserlab-Europe online workshop will present user experience (pros and cons) on some of the most popular ELNs (e.g. eLabFTW or Labfolder) as well as national initiatives on related topics such as metadata. Discussions will allow exchanging on pros and cons of ELNs and on how to motivate ourselves to switch from paper to an ELN. \nAgenda >> \n\n	Notice: JavaScript is required for this content.\n\n\n    \n\n\n        \n        \n         \n  \n 
URL:https://lasers4.eu/event/workshop-on-electronic-laboratory-notebooks/
CATEGORIES:Project
END:VEVENT
BEGIN:VEVENT
DTSTART;TZID=Europe/Berlin:20241021T070000
DTEND;TZID=Europe/Berlin:20241022T160000
DTSTAMP:20260420T172748
CREATED:20240807T083601Z
LAST-MODIFIED:20241202T073528Z
UID:1872-1729494000-1729612800@lasers4.eu
SUMMARY:Lasers4EU Kick-off Meeting\, 21-22 October 2024\, Crete\, Greece
DESCRIPTION:Preliminary agenda \n21 October 2024\n09:00-13:00 Laserlab-Europe V General Assembly\n13:00-14:00 Lunch\n14:00-17:30 Lasers4EU Kick-off Meeting Day 1\n17:30-19:00 Lab Tour at IESL-FORTH\n19:30- Working Dinner \n22 October 2024\n09:00-15:30 Lasers4EU Kick-off Meeting Day 2\n16:00/16:30 Sightseeing Tour \n\n	Notice: JavaScript is required for this content.
URL:https://lasers4.eu/event/lasers4eu-kick-off-meeting-21-22-october-2024-crete-greece/
LOCATION:Rutherford Appleton Laboratory\, Harwell Campus\,\, Didcot\, OX11 0QX\, United Kingdom
CATEGORIES:Project
END:VEVENT
END:VCALENDAR