BEGIN:VCALENDAR
VERSION:2.0
PRODID:-//Lasers4EU - ECPv6.15.20//NONSGML v1.0//EN
CALSCALE:GREGORIAN
METHOD:PUBLISH
X-ORIGINAL-URL:https://lasers4.eu
X-WR-CALDESC:Events for Lasers4EU
REFRESH-INTERVAL;VALUE=DURATION:PT1H
X-Robots-Tag:noindex
X-PUBLISHED-TTL:PT1H
BEGIN:VTIMEZONE
TZID:Europe/Berlin
BEGIN:DAYLIGHT
TZOFFSETFROM:+0100
TZOFFSETTO:+0200
TZNAME:CEST
DTSTART:20240331T010000
END:DAYLIGHT
BEGIN:STANDARD
TZOFFSETFROM:+0200
TZOFFSETTO:+0100
TZNAME:CET
DTSTART:20241027T010000
END:STANDARD
BEGIN:DAYLIGHT
TZOFFSETFROM:+0100
TZOFFSETTO:+0200
TZNAME:CEST
DTSTART:20250330T010000
END:DAYLIGHT
BEGIN:STANDARD
TZOFFSETFROM:+0200
TZOFFSETTO:+0100
TZNAME:CET
DTSTART:20251026T010000
END:STANDARD
BEGIN:DAYLIGHT
TZOFFSETFROM:+0100
TZOFFSETTO:+0200
TZNAME:CEST
DTSTART:20260329T010000
END:DAYLIGHT
BEGIN:STANDARD
TZOFFSETFROM:+0200
TZOFFSETTO:+0100
TZNAME:CET
DTSTART:20261025T010000
END:STANDARD
BEGIN:DAYLIGHT
TZOFFSETFROM:+0100
TZOFFSETTO:+0200
TZNAME:CEST
DTSTART:20270328T010000
END:DAYLIGHT
BEGIN:STANDARD
TZOFFSETFROM:+0200
TZOFFSETTO:+0100
TZNAME:CET
DTSTART:20271031T010000
END:STANDARD
END:VTIMEZONE
BEGIN:VEVENT
DTSTART;TZID=Europe/Berlin:20251117T100000
DTEND;TZID=Europe/Berlin:20251117T113000
DTSTAMP:20260421T153637
CREATED:20251113T000925Z
LAST-MODIFIED:20251113T065604Z
UID:6512-1763373600-1763379000@lasers4.eu
SUMMARY:Lasers4EU Industrial Advisory Committee meeting\, 17 November 2025
DESCRIPTION:The first meeting of the Lasers4EU Industrial Advisory Committee (IAC) will take place on 17 November 2025\, bringing together representatives from industry and project partners to help guide the project’s strategic direction. \nIAC members are expected to provide professional and technical input on key aspects of the project\, including exploitation opportunities\, innovation needs\, and the incorporation of industry perspectives into the design and evaluation of project activities. Their contributions will help ensure that Lasers4EU remains closely aligned with market demands. \nPlease note: this is an internal project event.
URL:https://lasers4.eu/event/lasers4eu-industrial-advisory-committee-meeting-17-november-2025/
CATEGORIES:Project
END:VEVENT
BEGIN:VEVENT
DTSTART;TZID=Europe/Berlin:20260113T103000
DTEND;TZID=Europe/Berlin:20260113T120000
DTSTAMP:20260421T153637
CREATED:20251113T000245Z
LAST-MODIFIED:20251113T000656Z
UID:6506-1768300200-1768305600@lasers4.eu
SUMMARY:Lasers4EU Activity Board meeting\, 13 January 2026
DESCRIPTION:The Activity Board of the Lasers4EU project will hold its next meeting on 13 January from 10:30 to 12:00 CET. \nLogin details will be provided by the Laserlab-Europe Office. \nPlease note: this is an internal project event.
URL:https://lasers4.eu/event/lasers4eu-activity-board-meeting-13-january-2026/
CATEGORIES:Project
END:VEVENT
BEGIN:VEVENT
DTSTART;TZID=Europe/Berlin:20260402T100000
DTEND;TZID=Europe/Berlin:20260402T120000
DTSTAMP:20260421T153638
CREATED:20260206T101747Z
LAST-MODIFIED:20260206T101751Z
UID:7040-1775124000-1775131200@lasers4.eu
SUMMARY:Lasers4EU Activity Board meeting\, 2 April 2026
DESCRIPTION:The Activity Board of the Lasers4EU project will hold its next meeting on 2 April from 10:00 to 12:00 CEST. \nLogin details will be provided by the Laserlab-Europe Office. \nPlease note: this is an internal project event.
URL:https://lasers4.eu/event/lasers4eu-activity-board-meeting-2-april-2026/
CATEGORIES:Project
END:VEVENT
BEGIN:VEVENT
DTSTART;TZID=Europe/Berlin:20260505T143000
DTEND;TZID=Europe/Berlin:20260505T163000
DTSTAMP:20260421T153638
CREATED:20260217T135257Z
LAST-MODIFIED:20260217T135349Z
UID:7081-1777991400-1777998600@lasers4.eu
SUMMARY:Lasers4EU Access Board meeting\, 5 May 2026
DESCRIPTION:The Access Board of the Lasers4EU project will meet on 5 May 2026\, 14:30-16:30 CEST. \nThe link to connect will be shared by the Laserlab-Europe office. \n  \nThis is a project internal event.
URL:https://lasers4.eu/event/lasers4eu-access-board-meeting-5-may-2026/
CATEGORIES:Project
END:VEVENT
BEGIN:VEVENT
DTSTART;VALUE=DATE:20260526
DTEND;VALUE=DATE:20260530
DTSTAMP:20260421T153638
CREATED:20251105T111059Z
LAST-MODIFIED:20260214T095011Z
UID:6476-1779753600-1780099199@lasers4.eu
SUMMARY:Laserlab-Europe and Lasers4EU Annual and Users Meeting 2026\, 26-29 May 2026
DESCRIPTION:
URL:https://lasers4.eu/event/joint-lle-l4eu-am2026/
LOCATION:HiLASE\, Dolni Břežany\, Czech Republic
CATEGORIES:Project
END:VEVENT
BEGIN:VEVENT
DTSTART;VALUE=DATE:20260609
DTEND;VALUE=DATE:20260612
DTSTAMP:20260421T153638
CREATED:20260217T153253Z
LAST-MODIFIED:20260217T180255Z
UID:7087-1780963200-1781222399@lasers4.eu
SUMMARY:Lasers4EU Training | Experimental methods and data analysis for femtosecond and attosecond spectroscopies: transient absorption spectroscopy\, time-resolved photoelectron/photoion spectroscopy\, 9-11 June 2026
DESCRIPTION:
URL:https://lasers4.eu/event/lasers4eu-training-experimental-methods-and-data-analysis-for-femtosecond-and-attosecond-spectroscopies-transient-absorption-spectroscopy-time-resolved-photoelectron-photoion-spectroscopy-9-11-jun/
LOCATION:Max-Born-Institute\, Berlin\, Germany
CATEGORIES:Project,Trainings
ATTACH;FMTTYPE=image/png:https://lasers4.eu/wp-content/uploads/training-mb1i.png
END:VEVENT
BEGIN:VEVENT
DTSTART;VALUE=DATE:20260713
DTEND;VALUE=DATE:20260718
DTSTAMP:20260421T153638
CREATED:20260217T180639Z
LAST-MODIFIED:20260217T181313Z
UID:7101-1783900800-1784332799@lasers4.eu
SUMMARY:Lasers4EU Training | Hands-on Course on MINDLAB: Manipulating and Investigating Neural Dynamics for Learning and Ageing in the Brain\, 13-17 July 2026
DESCRIPTION:The core faculty of the ICFO-MINDLAB\, a think tank working jointly towards a transdisciplinary understanding of the brain\, offers a school to introduce cutting edge technologies to study neuroscience at the molecular\, cellular and systems level to students in a combination of lectures and hands-on experience leading to group projects. \nWhat is MINDLAB?\nMINDLAB stands for “Manipulating and Investigating Neural Dynamics for Learning and Ageing in the Brain” and is an interdisciplinary creative playground rooted squarely in academic rigor\, comprising of research groups from ICFO and beyond. We focus on advancing fundamental knowledge on how the mind emerges from the behavior of individual molecules\, neurons and brain networks but also creating and commercializing transformational future technologies with outstanding potential to impact our society for good. \nHence\, this course will expose participants to the state-of-the-art of photonics-based technologies tailored to monitor a hierarchy of scales in the study of the brain: i.e. from single molecules up to the whole organism. \nThe MINDLAB faculty includes world leading experts in their fields. The expertise of the core faculty is complemented by a diverse set of affiliated adjunct faculty from various research centres in Barcelona but also through clinical and corporate partners. \nThis year’s school coincide with the arrival of ICFO’s Summer Fellows\, a group of highly motivated master-level or engineering students in their final years of study\, who join ICFO research groups for three-month internships (July-September) \nHands-on sessions\nParticipants will engage in lab sessions focused on the latest photonics technologies. Each lab session will provide participants with an opportunity to work directly with advanced equipment and gain valuable practical skills. \nThe sessions will take place in the following labs: \n\nSuper resolution Light microscopy and Nanoscopy\nNeurophotonics and Mechanical Systems Biology\nMedical Optics\nPhoton Harvesting in Plants and Biomolecules\nSingle Molecules Biophotonics\n\n 
URL:https://lasers4.eu/event/lasers4eu-training-hands-on-course-on-mindlab-manipulating-and-investigating-neural-dynamics-for-learning-and-ageing-in-the-brain-13-17-july-2026/
LOCATION:Castelldefels\, Castelldefels\, Barcelona\, Spain
CATEGORIES:Project,Trainings
ATTACH;FMTTYPE=image/png:https://lasers4.eu/wp-content/uploads/icfo_mindlab_2025_2.png
END:VEVENT
END:VCALENDAR