BEGIN:VCALENDAR
VERSION:2.0
PRODID:-//Lasers4EU - ECPv6.15.20//NONSGML v1.0//EN
CALSCALE:GREGORIAN
METHOD:PUBLISH
X-ORIGINAL-URL:https://lasers4.eu
X-WR-CALDESC:Events for Lasers4EU
REFRESH-INTERVAL;VALUE=DURATION:PT1H
X-Robots-Tag:noindex
X-PUBLISHED-TTL:PT1H
BEGIN:VTIMEZONE
TZID:Europe/Berlin
BEGIN:DAYLIGHT
TZOFFSETFROM:+0100
TZOFFSETTO:+0200
TZNAME:CEST
DTSTART:20240331T010000
END:DAYLIGHT
BEGIN:STANDARD
TZOFFSETFROM:+0200
TZOFFSETTO:+0100
TZNAME:CET
DTSTART:20241027T010000
END:STANDARD
BEGIN:DAYLIGHT
TZOFFSETFROM:+0100
TZOFFSETTO:+0200
TZNAME:CEST
DTSTART:20250330T010000
END:DAYLIGHT
BEGIN:STANDARD
TZOFFSETFROM:+0200
TZOFFSETTO:+0100
TZNAME:CET
DTSTART:20251026T010000
END:STANDARD
BEGIN:DAYLIGHT
TZOFFSETFROM:+0100
TZOFFSETTO:+0200
TZNAME:CEST
DTSTART:20260329T010000
END:DAYLIGHT
BEGIN:STANDARD
TZOFFSETFROM:+0200
TZOFFSETTO:+0100
TZNAME:CET
DTSTART:20261025T010000
END:STANDARD
END:VTIMEZONE
BEGIN:VEVENT
DTSTART;TZID=Europe/Berlin:20251008T080000
DTEND;TZID=Europe/Berlin:20251008T170000
DTSTAMP:20260422T130427
CREATED:20250604T094734Z
LAST-MODIFIED:20251009T113003Z
UID:4992-1759910400-1759942800@lasers4.eu
SUMMARY:Laserlab-Europe Talk: Electromagnetic pulse generation by sub-nanosecond kilojoule laser pulses\, 8 Oct 2025
DESCRIPTION:Speaker: Jakub Cikhardt (Czech Technical University) \nThe interaction of a focused high-power laser with matter results in the generation of an electromagnetic pulse (EMP). In the case of terawatt and petawatt lasers\, the intensity of the EMP is strong enough to interfere with diagnostic signals and may cause malfunction or distortion of electronic devices. Moreover\, the laser-driven EMP could cause problems in experimental basic research\, inertial nuclear fusion\, laser-plasma biomedicine and other high-power laser technologies. On the other hand\, the mechanisms of this phenomenon are not fully understood\, making it an interesting topic for the fundamental physics of laser-matter interaction. Therefore\, the laser-driven EMP is intensively studied at the PALS laser facility – a joint research infrastructure of the Institute of Plasma Physics and the Institute of Physics of the Czech Academy of Sciences in cooperation with other world-leading institutions such as the Univ. of Bordeaux\, CLF Rutherford Appleton Laboratory\, CLPU Salamanca\, ENEA C.R. Frascati\, and others. \nIn recent years we have achieved some interesting results\, such as \n\nthe observation of unprecedentedly broad EMP bandwidths;\nthe dependence of the EMP spectrum shape and upper cut-off frequency on the laser beam energy/power\, target material and target ground impedance;\nthe relation between EMP emission and the escaped electron energy spectrum;\nthe influence of the wave plate on the emission of charged particles and EMP; and\nthe characterization of the EMP caused by laser interaction with various gas targets.\n\nAs part of this research\, a number of EMP diagnostics have been developed\, such as inductive target current probes\, high-voltage target probes and B-dot arrays\, and electro-optical probes have been tested. We believe that this research will contribute to EMP mitigation\, will enrich fundamental physics knowledge\, and will also lead to numerous high-tech applications\, such as electromagnetic compatibility hardening\, biology and defense. \n			\n				Watch LLE Talk
URL:https://lasers4.eu/event/laserlab-europe-talk-electromagnetic-pulse-generation-by-sub-nanosecond-kilojoule-laser-pulses-8-oct-2025/
CATEGORIES:Webinars
ATTACH;FMTTYPE=image/png:https://lasers4.eu/wp-content/uploads/Thumbnail_yt.png
END:VEVENT
END:VCALENDAR