BEGIN:VCALENDAR
VERSION:2.0
PRODID:-//Lasers4EU - ECPv6.15.20//NONSGML v1.0//EN
CALSCALE:GREGORIAN
METHOD:PUBLISH
X-ORIGINAL-URL:https://lasers4.eu
X-WR-CALDESC:Events for Lasers4EU
REFRESH-INTERVAL;VALUE=DURATION:PT1H
X-Robots-Tag:noindex
X-PUBLISHED-TTL:PT1H
BEGIN:VTIMEZONE
TZID:Europe/Berlin
BEGIN:DAYLIGHT
TZOFFSETFROM:+0100
TZOFFSETTO:+0200
TZNAME:CEST
DTSTART:20240331T010000
END:DAYLIGHT
BEGIN:STANDARD
TZOFFSETFROM:+0200
TZOFFSETTO:+0100
TZNAME:CET
DTSTART:20241027T010000
END:STANDARD
BEGIN:DAYLIGHT
TZOFFSETFROM:+0100
TZOFFSETTO:+0200
TZNAME:CEST
DTSTART:20250330T010000
END:DAYLIGHT
BEGIN:STANDARD
TZOFFSETFROM:+0200
TZOFFSETTO:+0100
TZNAME:CET
DTSTART:20251026T010000
END:STANDARD
BEGIN:DAYLIGHT
TZOFFSETFROM:+0100
TZOFFSETTO:+0200
TZNAME:CEST
DTSTART:20260329T010000
END:DAYLIGHT
BEGIN:STANDARD
TZOFFSETFROM:+0200
TZOFFSETTO:+0100
TZNAME:CET
DTSTART:20261025T010000
END:STANDARD
END:VTIMEZONE
BEGIN:VEVENT
DTSTART;TZID=Europe/Berlin:20250129T160000
DTEND;TZID=Europe/Berlin:20250129T170000
DTSTAMP:20260423T024626
CREATED:20250116T100027Z
LAST-MODIFIED:20250710T105226Z
UID:3859-1738166400-1738170000@lasers4.eu
SUMMARY:Laserlab-Europe Talk: Laser-surface processing for green Hydrogen and energy storage applications\, 29 Jan 2025
DESCRIPTION:Title: Laser-surface processing for green Hydrogen and energy storage applications\nSpeaker: Panagiotis A. Loukakos (IESL-FORTH)\nDate: Wednesday\, 29 January 2025\, 16:00 CET\nVenue: Online\n \nIn this talk I will present our recent work on the application of laser-surface processing in the fabrication of nanostructured metallic electrodes. These electrodes have been found to exhibit enhanced electrochemical properties and they have been used in water-splitting electrochemical cells where we have found that they produce almost 5 times as much Hydrogen when compared with flat metallic electrodes. The enhanced Hydrogen evolution reactivity and electrochemical properties are attributed to the concomitant enlargement of the electrode’s electrocatalytic area due to the nanostructured surface. The details of the experiments as well as the impact of applications of lasers in the energy and environmental sectors will be discussed.\n			\n				Watch the Talk\n			\n				\n				\n				\n				\n				This Laserlab-Europe Talk is coorganised by Lasers4EU and 360Carla.
URL:https://lasers4.eu/event/laserlab-europe-talk-laser-surface-processing-for-green-hydrogen-and-energy-storage-applications/
CATEGORIES:Webinars
ATTACH;FMTTYPE=image/png:https://lasers4.eu/wp-content/uploads/lle-talk_2025_hydrogen_loukakos.png
END:VEVENT
END:VCALENDAR